BEGIN:VCALENDAR
VERSION:2.0
PRODID:-//Bloom Toddler Classes Manchester West
CALSCALE:GREGORIAN
METHOD:PUBLISH
X-WR-CALNAME:Bloom Toddler Classes Manchester West
X-ORIGINAL-URL:https://bloomtoddlerclasses.com/manchester-west/product/early-spring-term%f0%9f%8c%b8%e2%9c%a8fridays-in-monton-social-superstars%e2%ad%902-to-4-years/
X-WR-CALDESC:Early Spring Term🌸✨Fridays in Monton &#8211; Social Superstars⭐(2 to 4 years)
BEGIN:VEVENT
DTSTART;TZID=Europe/Paris:20260220T112000
DTEND;TZID=Europe/Paris:20260327T120500
SUMMARY:Early Spring Term🌸✨Fridays in Monton – Social Superstars⭐(2 to 4 years)
DESCRIPTION:Give your toddler a spring term full of fun, confidence-building play and magical first experiences with our much-loved Early Spring Term at Bloom Toddler Classes Manchester West. This 6-week block of expertly planned toddler classes is designed to support your child’s early development through sensory play, music, movement and imaginative exploration, while giving you precious one-to-one bonding time together 💙💚. Bloom classes aren’t just activities — they’re a community. Families return term after term for the warm atmosphere, engaging themes and the confidence their toddlers gain each week. What Your Toddler Will Experience ✨ Sensory-rich, play-based learning🎶 Bloom core songs and movement activities🎨 Creative and messy play opportunities🤍 Social interaction in a calm, nurturing environment👶 Activities tailored to support early development Weekly Themes Each week brings a brand-new adventure to keep little minds engaged: 🐮 Moo &amp; Oink Farmyard Fun🌮 Fiesta Fun &amp; Fancy Dress🦖 Dino Stomp &amp; Roar👑 Kings, Queens &amp; Crowns🚒 Heroes Who Help Us🧽 Spring Clean &amp; Sparkle 🌟 Limited spaces available — Bloom terms regularly sell out. Secure your place today and join us for a spring full of play, confidence-building and Bloom magic 🌸✨
URL:https://bloomtoddlerclasses.com/manchester-west/product/early-spring-term%f0%9f%8c%b8%e2%9c%a8fridays-in-monton-social-superstars%e2%ad%902-to-4-years/
LOCATION:Monton Unitarian Church, Monton Green, Eccles, Monton, UK
END:VEVENT
END:VCALENDAR
