BEGIN:VCALENDAR
VERSION:2.0
PRODID:-//Bloom Toddler Classes Manchester West
CALSCALE:GREGORIAN
METHOD:PUBLISH
X-WR-CALNAME:Bloom Toddler Classes Manchester West
X-ORIGINAL-URL:https://bloomtoddlerclasses.com/manchester-west/product/early-spring-term-waitlist%f0%9f%8c%b8%f0%9f%8c%b1/
X-WR-CALDESC:Early Spring Term Waitlist🌸🌱
BEGIN:VEVENT
DTSTART;TZID=Europe/Paris:20260130T193000
DTEND;TZID=Europe/Paris:20260131T193000
SUMMARY:Early Spring Term Waitlist🌸🌱
DESCRIPTION:6-Week Term | Starts Monday 23rd February Join the waitlist for our much-loved Early Spring Term at Bloom Toddler Classes Manchester West — a joyful 6-week block of sensory-rich, playful learning designed especially for toddlers and their grown-ups. Bloom classes are all about connection, confidence and creativity. Each week, your toddler will explore a new theme through music, movement, sensory play and imagination, while you enjoy quality bonding time in our warm, welcoming Bloom community 💙💚. Priority Booking Information Signing up to this waitlist gives you priority access to bookings before they open to the general public. ✨ Priority bookings open: Friday 30th January at 7:30pm✨ Priority access lasts 24 hours✨ Available to current customers and waitlist members only Weekly Themes Our Early Spring themes are designed to spark curiosity and keep little minds engaged: 🐮 Moo &amp; Oink Farmyard Fun🌮 Fiesta Fun &amp; Fancy Dress🦖 Dino Stomp &amp; Roar👑 Kings, Queens &amp; Crowns🚒 Heroes Who Help Us🧽 Spring Clean &amp; Sparkle Spaces for our terms are limited and are already sold out for this term, so joining the waitlist is the best way to secure your place. We can’t wait to welcome you and your little one for a spring full of play, learning and Bloom magic 🌸✨
URL:https://bloomtoddlerclasses.com/manchester-west/product/early-spring-term-waitlist%f0%9f%8c%b8%f0%9f%8c%b1/
LOCATION:Wharton & Clegg's Lane Church & Community Centre, Cleggs Lane, Little Hulton, Manchester, UK
END:VEVENT
END:VCALENDAR
