BEGIN:VCALENDAR
VERSION:2.0
PRODID:-//Bloom Toddler Classes Manchester West
CALSCALE:GREGORIAN
METHOD:PUBLISH
X-WR-CALNAME:Bloom Toddler Classes Manchester West
X-ORIGINAL-URL:https://bloomtoddlerclasses.com/manchester-west/product/love-in-bloom%f0%9f%92%98%f0%9f%8c%b9-valentines-special%f0%9f%93%8d-astley-community-club-at-1000am-walking-to-4-years/
X-WR-CALDESC:Love in Bloom💘🌹 &#8211; Valentines Special📍 Astley Community Club at 10:00am (walking to 4 years)
BEGIN:VEVENT
DTSTART;TZID=Europe/Paris:20260214T100000
DTEND;TZID=Europe/Paris:20260214T110000
SUMMARY:Love in Bloom💘🌹 – Valentines Special📍 Astley Community Club at 10:00am (walking to 4 years)
DESCRIPTION:Celebrate Valentine’s with our Love in Bloom toddler class — a magical, love-filled session designed to celebrate connection, kindness and quality time with your little one. This 1-hour special class is packed with exciting, themed activities alongside all of our much-loved Bloom core songs and activities. Little ones will explore, create and play in a calm, welcoming environment while supporting their early development through sensory and imaginative play. What’s Included 💕 Love potion making – mixing, pouring and sensory fun💌 Valentine keepsake cards – a special handmade memory to take home❤️ Heart rescue tuff tray – problem-solving and fine motor play📸 Free photo station with props – capture those adorable Valentine moments🎶 All Bloom core songs and activities you know and love⏰ 1-hour long class Ticket Information 🎟️ Each ticket includes 1 child and up to 2 adults💕 Sibling discount: Save 15% on additional sibling tickets using the code LOVE26 Perfect for toddlers who love to explore and create, Love in Bloom is a beautiful way to celebrate Valentine’s while making meaningful memories together. I can’t wait to welcome you to this extra-special Bloom class! 💕🌼
URL:https://bloomtoddlerclasses.com/manchester-west/product/love-in-bloom%f0%9f%92%98%f0%9f%8c%b9-valentines-special%f0%9f%93%8d-astley-community-club-at-1000am-walking-to-4-years/
LOCATION:Astley Community Club, Manchester Road, Astley, Tyldesley, Manchester, UK
END:VEVENT
END:VCALENDAR
