BEGIN:VCALENDAR
VERSION:2.0
PRODID:-//Bloom Toddler Classes Manchester West
CALSCALE:GREGORIAN
METHOD:PUBLISH
X-WR-CALNAME:Bloom Toddler Classes Manchester West
X-ORIGINAL-URL:https://bloomtoddlerclasses.com/manchester-west/product/september-term-waitlist-tuesdays-creative-learners-walking-to-24-months-worsley-6/
X-WR-CALDESC:September Term 🍁🍂🎃🌰-Thursdays,(Walking to 4 years) Little Hulton
BEGIN:VEVENT
DTSTART;TZID=Europe/Paris:20250911T101500
DTEND;TZID=Europe/Paris:20251016T110000
SUMMARY:September Term 🍁🍂🎃🌰-Thursdays,(Walking to 4 years) Little Hulton
DESCRIPTION:🍁 Join in the fun this Autumn 🍁 THIS IS A WAITLIST (Please subscribe if you are wanting to join this class, once numbers have picked up the class will open) Our magical 6-week Bloom Autumn Term is nearly here – don’t miss your chance to secure a spot! Each 45-minute class is thoughtfully designed to support your toddler’s development while filling their day with fun, music, and learning. 🎶 Expect our much-loved Bloom core songs alongside exciting new weekly themes🧠 Engaging activities that support phonics, number, and colour recognition🌈 Sensory play, mindfulness moments, and so much more! Every class is aligned with the Early Years Curriculum, helping your little one grow in confidence, coordination, and creativity – all while having an amazing time!
URL:https://bloomtoddlerclasses.com/manchester-west/product/september-term-waitlist-tuesdays-creative-learners-walking-to-24-months-worsley-6/
LOCATION:Little Hulton Cricket & Bowling, Manchester Road West, Little Hulton, Manchester, UK
END:VEVENT
END:VCALENDAR
