BEGIN:VCALENDAR
VERSION:2.0
PRODID:-//Bloom Toddler Classes Liverpool Central
CALSCALE:GREGORIAN
METHOD:PUBLISH
X-WR-CALNAME:Bloom Toddler Classes Liverpool Central
X-ORIGINAL-URL:https://bloomtoddlerclasses.com/liverpool-central/product/blooms-animal-adventure-sibling-ticket-10am/
X-WR-CALDESC:Bloom&#8217;s Animal Adventure &#8211; Sibling Ticket 10am
BEGIN:VEVENT
DTSTART;TZID=Europe/Paris:20230216T100000
DTEND;TZID=Europe/Paris:20230216T110000
SUMMARY:Bloom’s Animal Adventure – Sibling Ticket 10am
DESCRIPTION:💙💚 Bloom's Animal Adventure with Boo's Mobile Zoo💚💙 Ticket for 1 SIBLING (up to age 8) An extended one hour Bloom class with live animals for our theme time
URL:https://bloomtoddlerclasses.com/liverpool-central/product/blooms-animal-adventure-sibling-ticket-10am/
LOCATION:The Cornerstone Centre, Eaton Road North, West Derby, Liverpool, UK
END:VEVENT
END:VCALENDAR
