BEGIN:VCALENDAR
VERSION:2.0
PRODID:-//Bloom Toddler Classes Liverpool Central
CALSCALE:GREGORIAN
METHOD:PUBLISH
X-WR-CALNAME:Bloom Toddler Classes Liverpool Central
X-ORIGINAL-URL:https://bloomtoddlerclasses.com/liverpool-central/product/%f0%9f%90%b0-easter-eggstravaganza-%f0%9f%90%b0-thursday-2nd-april-945am-west-derby-amanda/
X-WR-CALDESC:🐰 EASTER EGGSTRAVAGANZA 🐰 Thursday 2nd April @ 9:45am WEST DERBY (Amanda)
BEGIN:VEVENT
DTSTART;TZID=Europe/Paris:20260402T094500
DTEND;TZID=Europe/Paris:20260402T103000
SUMMARY:🐰 EASTER EGGSTRAVAGANZA 🐰 Thursday 2nd April @ 9:45am WEST DERBY (Amanda)
DESCRIPTION:‼️ SUITABLE FOR WALKING TODDLERS TO 4 YEARS OLD ‼️ 🐰 Join us for our extended class Easter Eggstravaganza! 🐣 Alongside your favourite toddler beats we will have: 🐰 Extra theme time activities 🐣 Keepsake Crafts 🐰 Tasty Treats 🤫 And a SPECIAL GUEST!
URL:https://bloomtoddlerclasses.com/liverpool-central/product/%f0%9f%90%b0-easter-eggstravaganza-%f0%9f%90%b0-thursday-2nd-april-945am-west-derby-amanda/
LOCATION:The Cornerstone Centre, Eaton Road North, West Derby, Liverpool, UK
END:VEVENT
END:VCALENDAR
