BEGIN:VCALENDAR
VERSION:2.0
PRODID:-//Bloom Toddler Classes Liverpool Central
CALSCALE:GREGORIAN
METHOD:PUBLISH
X-WR-CALNAME:Bloom Toddler Classes Liverpool Central
X-ORIGINAL-URL:https://bloomtoddlerclasses.com/liverpool-central/product/%f0%9f%90%b0-easter-eggstravaganza-%f0%9f%90%b0-saturday-28th-march-anfield-amanda/
X-WR-CALDESC:🐰 EASTER EGGSTRAVAGANZA 🐰 Saturday 28th March @ 9:45am ANFIELD (Amanda)
BEGIN:VEVENT
DTSTART;TZID=Europe/Paris:20260328T094500
DTEND;TZID=Europe/Paris:20260328T103000
SUMMARY:🐰 EASTER EGGSTRAVAGANZA 🐰 Saturday 28th March @ 9:45am ANFIELD (Amanda)
DESCRIPTION:‼️ SUITABLE FOR WALKING TODDLERS TO 4 YEARS OLD ‼️ 🐰 Join us for our extended class Easter Eggstravaganza! 🐣 Alongside your favourite toddler beats we will have: 🐰 Extra theme time activities 🐣 Keepsake Crafts 🐰 Tasty Treats 🤫 And a SPECIAL GUEST!
URL:https://bloomtoddlerclasses.com/liverpool-central/product/%f0%9f%90%b0-easter-eggstravaganza-%f0%9f%90%b0-saturday-28th-march-anfield-amanda/
LOCATION:Anfield Sports & Community Centre, Lower Breck Road, Liverpool, UK
END:VEVENT
END:VCALENDAR
