BEGIN:VCALENDAR
VERSION:2.0
PRODID:-//Bloom Toddler Classes Liverpool Central
CALSCALE:GREGORIAN
METHOD:PUBLISH
X-WR-CALNAME:Bloom Toddler Classes Liverpool Central
X-ORIGINAL-URL:https://bloomtoddlerclasses.com/liverpool-central/product/%f0%9f%90%b0-easter-eggstravaganza-%f0%9f%90%b0-friday-27th-march-kirkby-georga/
X-WR-CALDESC:🐰 EASTER EGGSTRAVAGANZA 🐰 Friday 27th March @ 10am KIRKBY (Georga)
BEGIN:VEVENT
DTSTART;TZID=Europe/Paris:20260327T100000
DTEND;TZID=Europe/Paris:20260327T104500
SUMMARY:🐰 EASTER EGGSTRAVAGANZA 🐰 Friday 27th March @ 10am KIRKBY (Georga)
DESCRIPTION:‼️ SUITABLE FOR WALKING TODDLERS TO 4 YEARS OLD ‼️ 🐰 Join us for our extended class Easter Eggstravaganza! 🐣 Alongside your favourite toddler beats we will have: 🐰 Extra theme time activities 🐣 Keepsake Crafts 🐰 Tasty Treats 🤫 And a SPECIAL GUEST!
URL:https://bloomtoddlerclasses.com/liverpool-central/product/%f0%9f%90%b0-easter-eggstravaganza-%f0%9f%90%b0-friday-27th-march-kirkby-georga/
LOCATION:Southdene Community Centre, Broad Lane, Liverpool, UK
END:VEVENT
END:VCALENDAR
