BEGIN:VCALENDAR
VERSION:2.0
PRODID:-//Bloom Toddler Classes Liverpool Central
CALSCALE:GREGORIAN
METHOD:PUBLISH
X-WR-CALNAME:Bloom Toddler Classes Liverpool Central
X-ORIGINAL-URL:https://bloomtoddlerclasses.com/liverpool-central/product/%f0%9f%8e%84christmas-party-%f0%9f%8e%84-saturday-13th-december-945am-anfield-amanda/
X-WR-CALDESC:🎄CHRISTMAS PARTY 🎄 @ Saturday 13th December 9:45am Anfield (AMANDA)
BEGIN:VEVENT
DTSTART;TZID=Europe/Paris:20251213T094500
DTEND;TZID=Europe/Paris:20251213T103000
SUMMARY:🎄CHRISTMAS PARTY 🎄 @ Saturday 13th December 9:45am Anfield (AMANDA)
DESCRIPTION:‼️ SUITABLE FOR TODDLERS WALKING TO 4 YEARS OLD ‼️ 💙 A highly interactive toddler class with back to back activities set to our own NEW bespoke Bloom soundtrack 🎶 💚 This class will expose a multi sensory learning adventure helping toddlers to understand the world around them 🌍, flourish in language rich environment 🗣️, and enjoy a range of age appropriate games, songs and tasks which help support their developmental milestones 🧠
URL:https://bloomtoddlerclasses.com/liverpool-central/product/%f0%9f%8e%84christmas-party-%f0%9f%8e%84-saturday-13th-december-945am-anfield-amanda/
LOCATION:Anfield Sports & Community Centre, Lower Breck Road, Liverpool, UK
END:VEVENT
END:VCALENDAR
