BEGIN:VCALENDAR
VERSION:2.0
PRODID:-//Bloom Toddler Classes Liverpool Central
CALSCALE:GREGORIAN
METHOD:PUBLISH
X-WR-CALNAME:Bloom Toddler Classes Liverpool Central
X-ORIGINAL-URL:https://bloomtoddlerclasses.com/liverpool-central/product/%f0%9f%a5%b3-maxs-2nd-birthday-%f0%9f%a5%b3/
X-WR-CALDESC:PRIORITY BOOKING ONLY: 🥳 MAX&#8217;S 2ND BIRTHDAY 🥳
BEGIN:VEVENT
DTSTART;TZID=Europe/Paris:20251005T094500
DTEND;TZID=Europe/Paris:20251005T103000
SUMMARY:PRIORITY BOOKING ONLY: 🥳 MAX’S 2ND BIRTHDAY 🥳
DESCRIPTION:Max's 2nd 'Two the Moon' Space Birthday Party (One hour event plus keepsake craft) Sunday 5th October Deposit £70 Final payment (due 7 days before event) £70 Total payment £140
URL:https://bloomtoddlerclasses.com/liverpool-central/product/%f0%9f%a5%b3-maxs-2nd-birthday-%f0%9f%a5%b3/
LOCATION:
END:VEVENT
END:VCALENDAR
