BEGIN:VCALENDAR
VERSION:2.0
PRODID:-//Bloom Toddler Classes Liverpool Central
CALSCALE:GREGORIAN
METHOD:PUBLISH
X-WR-CALNAME:Bloom Toddler Classes Liverpool Central
X-ORIGINAL-URL:https://bloomtoddlerclasses.com/liverpool-central/product/%f0%9f%90%b0-easter-eggstravaganza-%f0%9f%90%b0-thursday-17th-april-945am-west-derby/
X-WR-CALDESC:🐰 EASTER EGGSTRAVAGANZA 🐰 @ Thursday 17th April 9:45am West Derby
BEGIN:VEVENT
DTSTART;TZID=Europe/Paris:20250417T094500
DTEND;TZID=Europe/Paris:20250417T104500
SUMMARY:🐰 EASTER EGGSTRAVAGANZA 🐰 @ Thursday 17th April 9:45am West Derby
DESCRIPTION:‼️ SUITABLE FOR WALKING TODDLERS TO 4 YEARS OLD ‼️ 🐰 Join us for our extended class Easter Eggstravaganza! 🐣 Alongside your favourite toddler beats we will have: 🐰 Extra theme time activities 🐣 Keepsake Crafts 🐰 Tasty Treats 🤫 And a SPECIAL GUEST!
URL:https://bloomtoddlerclasses.com/liverpool-central/product/%f0%9f%90%b0-easter-eggstravaganza-%f0%9f%90%b0-thursday-17th-april-945am-west-derby/
LOCATION:The Cornerstone Centre, Eaton Road North, West Derby, Liverpool, UK
END:VEVENT
END:VCALENDAR
