BEGIN:VCALENDAR
VERSION:2.0
PRODID:-//Bloom Toddler Classes Liverpool Central
CALSCALE:GREGORIAN
METHOD:PUBLISH
X-WR-CALNAME:Bloom Toddler Classes Liverpool Central
X-ORIGINAL-URL:https://bloomtoddlerclasses.com/liverpool-central/product/blooms-animal-adventure-thursday-20th-february-sibling-ticket-945am-west-derby/
X-WR-CALDESC:Bloom&#8217;s Animal Adventure Thursday 20th February &#8211; Sibling Ticket 9:45am @ West Derby
BEGIN:VEVENT
DTSTART;TZID=Europe/Paris:20250220T094500
DTEND;TZID=Europe/Paris:20250220T103000
SUMMARY:Bloom’s Animal Adventure Thursday 20th February – Sibling Ticket 9:45am @ West Derby
DESCRIPTION:💙💚 Bloom's Animal Adventure with Boo's Mobile Zoo💚💙 🎟️ Booking for ONE SIBLING (max age 8) purchased in addition to a Toddler Ticket. All children will have the chance to meet and interact with a whole host of animals during this class 45 minute session, alongside animal themed tuff trays and activities
URL:https://bloomtoddlerclasses.com/liverpool-central/product/blooms-animal-adventure-thursday-20th-february-sibling-ticket-945am-west-derby/
LOCATION:The Cornerstone Centre, Eaton Road North, West Derby, Liverpool, UK
END:VEVENT
END:VCALENDAR
