BEGIN:VCALENDAR
VERSION:2.0
PRODID:-//Bloom Toddler Classes Liverpool Central
CALSCALE:GREGORIAN
METHOD:PUBLISH
X-WR-CALNAME:Bloom Toddler Classes Liverpool Central
X-ORIGINAL-URL:https://bloomtoddlerclasses.com/liverpool-central/product/time-to-get-messy-toddler-t-shirt-age-3-4/
X-WR-CALDESC:Time To Get Messy &#8211; Toddler T Shirt Age 3-4
BEGIN:VEVENT
DTSTART;TZID=Europe/Paris:20241102T000000
DTEND;TZID=Europe/Paris:20251231T000000
SUMMARY:Time To Get Messy – Toddler T Shirt Age 3-4
DESCRIPTION:TIME TO GET MESSY - Bloom Toddler T Shirts A memorable masterpiece of messy moments NON REFUNDABLE
URL:https://bloomtoddlerclasses.com/liverpool-central/product/time-to-get-messy-toddler-t-shirt-age-3-4/
LOCATION:
END:VEVENT
END:VCALENDAR
