BEGIN:VCALENDAR
VERSION:2.0
PRODID:-//Bloom Toddler Classes Liverpool Central
CALSCALE:GREGORIAN
METHOD:PUBLISH
X-WR-CALNAME:Bloom Toddler Classes Liverpool Central
X-ORIGINAL-URL:https://bloomtoddlerclasses.com/liverpool-central/product/%f0%9f%8e%84christmas-party-%f0%9f%8e%84-friday-20th-december-10am-kirkby/
X-WR-CALDESC:🎄CHRISTMAS PARTY 🎄 @ Friday 20th December 10am Kirkby
BEGIN:VEVENT
DTSTART;TZID=Europe/Paris:20241220T100000
DTEND;TZID=Europe/Paris:20241220T104500
SUMMARY:🎄CHRISTMAS PARTY 🎄 @ Friday 20th December 10am Kirkby
DESCRIPTION:‼️ SUITABLE FOR TODDLERS WALKING TO 4 YEARS OLD ‼️ 💙 A highly interactive toddler class with back to back activities set to our own NEW bespoke Bloom soundtrack 🎶 💚 This class will expose a multi sensory learning adventure helping toddlers to understand the world around them 🌍, flourish in language rich environment 🗣️, and enjoy a range of age appropriate games, songs and tasks which help support their developmental milestones 🧠
URL:https://bloomtoddlerclasses.com/liverpool-central/product/%f0%9f%8e%84christmas-party-%f0%9f%8e%84-friday-20th-december-10am-kirkby/
LOCATION:Southdene Community Centre, Broad Lane, Liverpool, UK
END:VEVENT
END:VCALENDAR
