BEGIN:VCALENDAR
VERSION:2.0
PRODID:-//Bloom Toddler Classes Liverpool Central
CALSCALE:GREGORIAN
METHOD:PUBLISH
X-WR-CALNAME:Bloom Toddler Classes Liverpool Central
X-ORIGINAL-URL:https://bloomtoddlerclasses.com/liverpool-central/product/%f0%9f%8e%83-halloween-spooktacular-%f0%9f%8e%83-thursday-31st-october-945am-west-derby/
X-WR-CALDESC:🎃 HALLOWEEN SPOOKTACULAR 🎃 Thursday 31st October @ 9:45am West Derby
BEGIN:VEVENT
DTSTART;TZID=Europe/Paris:20241031T094500
DTEND;TZID=Europe/Paris:20241031T103500
SUMMARY:🎃 HALLOWEEN SPOOKTACULAR 🎃 Thursday 31st October @ 9:45am West Derby
DESCRIPTION:🎃 Join us for our extended class Halloween Spooktacular 🎃 Alongside your favourite toddler beats we will have: 👹Monster Messy Play 🎨Chilling Crafts 😈 Devilish Dancing 😝 Tangfastic Treats AND 👻 Our FRIGHTLESS friend 🏆 There will be a prize for the best dressed toddler and grown up (optional of course) 📸 We will also be joined by Little Elephants Photography
URL:https://bloomtoddlerclasses.com/liverpool-central/product/%f0%9f%8e%83-halloween-spooktacular-%f0%9f%8e%83-thursday-31st-october-945am-west-derby/
LOCATION:The Cornerstone Centre, Eaton Road North, West Derby, Liverpool, UK
END:VEVENT
END:VCALENDAR
