BEGIN:VCALENDAR
VERSION:2.0
PRODID:-//Bloom Toddler Classes Liverpool Central
CALSCALE:GREGORIAN
METHOD:PUBLISH
X-WR-CALNAME:Bloom Toddler Classes Liverpool Central
X-ORIGINAL-URL:https://bloomtoddlerclasses.com/liverpool-central/product/%e2%98%80%ef%b8%8f-summer-term-%e2%98%80%ef%b8%8f-social-superstars-2-4-years-monday-130pm-walton/
X-WR-CALDESC:☀️ Summer Term ☀️ MIXED CLASS (Walking- 4 years) @ Monday 1:30pm Walton
BEGIN:VEVENT
DTSTART;TZID=Europe/Paris:20240610T133000
DTEND;TZID=Europe/Paris:20240715T141500
SUMMARY:☀️ Summer Term ☀️ MIXED CLASS (Walking- 4 years) @ Monday 1:30pm Walton
DESCRIPTION:‼️ SUITABLE FOR TODDLERS WALKING TO 4 YEARS OLD ‼️ 💙 A highly interactive toddler class with back to back activities set to our own NEW bespoke Bloom soundtrack 🎶 💚 This class will expose a multi sensory learning adventure helping toddlers to understand the world around them 🌍, flourish in language rich environment 🗣️, and enjoy a range of age appropriate games, songs and tasks which help support their developmental milestones 🧠
URL:https://bloomtoddlerclasses.com/liverpool-central/product/%e2%98%80%ef%b8%8f-summer-term-%e2%98%80%ef%b8%8f-social-superstars-2-4-years-monday-130pm-walton/
LOCATION:Walton Cornerstone, Liston Street, Liverpool, UK
END:VEVENT
END:VCALENDAR
