BEGIN:VCALENDAR
VERSION:2.0
PRODID:-//Bloom Toddler Classes Liverpool Central
CALSCALE:GREGORIAN
METHOD:PUBLISH
X-WR-CALNAME:Bloom Toddler Classes Liverpool Central
X-ORIGINAL-URL:https://bloomtoddlerclasses.com/liverpool-central/product/%f0%9f%8c%ba-spring-2-apr-may-%f0%9f%8c%ba-social-superstars-2-4-years-thursday-1050am-west-derby/
X-WR-CALDESC:🌺 Spring 2 (Apr/May) 🌺 Social Superstars (2 &#8211; 4 years) @ Thursday 10:50am West Derby
BEGIN:VEVENT
DTSTART;TZID=Europe/Paris:20240425T105000
DTEND;TZID=Europe/Paris:20240523T113500
SUMMARY:🌺 Spring 2 (Apr/May) 🌺 Social Superstars (2 – 4 years) @ Thursday 10:50am West Derby
DESCRIPTION:‼️ SUITABLE FOR TODDLERS 2 - 4 YEARS OLD ‼️ 💙 An active, fast paced toddler class for children from 2 - 4 years old😁 Our engaging activities focus on teamwork, friendship and physical play in a sensory rich atmosphere to foster a love of learning ❤️ 💚 Each week will explore a new theme where they will have the opportunity to problem solve 🤔, role play 🧑‍🚀, and develop their gross and fine motor skills 🤌, working towards school readiness 🏫
URL:https://bloomtoddlerclasses.com/liverpool-central/product/%f0%9f%8c%ba-spring-2-apr-may-%f0%9f%8c%ba-social-superstars-2-4-years-thursday-1050am-west-derby/
LOCATION:The Cornerstone Centre, Eaton Road North, West Derby, Liverpool, UK
END:VEVENT
END:VCALENDAR
