BEGIN:VCALENDAR
VERSION:2.0
PRODID:-//Bloom Toddler Classes Liverpool Central
CALSCALE:GREGORIAN
METHOD:PUBLISH
X-WR-CALNAME:Bloom Toddler Classes Liverpool Central
X-ORIGINAL-URL:https://bloomtoddlerclasses.com/liverpool-central/product/%f0%9f%90%b0-easter-eggstravaganza-%f0%9f%90%b0-saturday-23rd-march-945am-anfield/
X-WR-CALDESC:🐰 EASTER EGGSTRAVAGANZA 🐰 @ Saturday 23rd March 9:45am Anfield
BEGIN:VEVENT
DTSTART;TZID=Europe/Paris:20240323T094500
DTEND;TZID=Europe/Paris:20240323T103000
SUMMARY:🐰 EASTER EGGSTRAVAGANZA 🐰 @ Saturday 23rd March 9:45am Anfield
DESCRIPTION:‼️ SUITABLE FOR WALKING TODDLERS TO 4 YEARS OLD ‼️ 🐰 Join us for our extended class Easter Eggstravganza! 🐣 Alongside your favourite toddler beats we will have: 🐰 Extra theme time activities 🐣 Keepsake Crafts 🐰 Tasty Treats 🤫 And a SPECIAL GUEST!
URL:https://bloomtoddlerclasses.com/liverpool-central/product/%f0%9f%90%b0-easter-eggstravaganza-%f0%9f%90%b0-saturday-23rd-march-945am-anfield/
LOCATION:Anfield Sports & Community Centre, Lower Breck Road, Liverpool, UK
END:VEVENT
END:VCALENDAR
