BEGIN:VCALENDAR
VERSION:2.0
PRODID:-//Bloom Toddler Classes Liverpool Central
CALSCALE:GREGORIAN
METHOD:PUBLISH
X-WR-CALNAME:Bloom Toddler Classes Liverpool Central
X-ORIGINAL-URL:https://bloomtoddlerclasses.com/liverpool-central/product/%f0%9f%8c%b8-spring-1-feb-mar-%f0%9f%8c%b8-creative-learners-walking-2-years-thursday-945am-west-derby/
X-WR-CALDESC:🌸 Spring 1 (Feb/Mar) 🌸 Creative Learners (Walking &#8211; 2 years) @Thursday 9:45am West Derby
BEGIN:VEVENT
DTSTART;TZID=Europe/Paris:20240222T094500
DTEND;TZID=Europe/Paris:20240321T103000
SUMMARY:🌸 Spring 1 (Feb/Mar) 🌸 Creative Learners (Walking – 2 years) @Thursday 9:45am West Derby
DESCRIPTION:‼️ SUITABLE FOR TODDLERS WALKING TO 24 MONTHS ‼️ 💙 A highly interactive toddler class with back to back activities set to our own NEW bespoke Bloom soundtrack 🎶 💚 This class will expose a multi sensory learning adventure helping toddlers to understand the world around them 🌍, flourish in language rich environment 🗣️, and enjoy a range of age appropriate games, songs and tasks which help support their developmental milestones 🧠
URL:https://bloomtoddlerclasses.com/liverpool-central/product/%f0%9f%8c%b8-spring-1-feb-mar-%f0%9f%8c%b8-creative-learners-walking-2-years-thursday-945am-west-derby/
LOCATION:The Cornerstone Centre, Eaton Road North, West Derby, Liverpool, UK
END:VEVENT
END:VCALENDAR
