BEGIN:VCALENDAR
VERSION:2.0
PRODID:-//Bloom Toddler Classes Liverpool Central
CALSCALE:GREGORIAN
METHOD:PUBLISH
X-WR-CALNAME:Bloom Toddler Classes Liverpool Central
X-ORIGINAL-URL:https://bloomtoddlerclasses.com/liverpool-central/product/%f0%9f%8c%b8-spring-1-feb-mar-%f0%9f%8c%b8-mixed-class-walking-4-years-wednesday-945am-anfield/
X-WR-CALDESC:🌸 Spring 1 (Feb/Mar) 🌸 MIXED CLASS (Walking &#8211; 4 years) @ Wednesday 9:45am Anfield
BEGIN:VEVENT
DTSTART;TZID=Europe/Paris:20240221T094500
DTEND;TZID=Europe/Paris:20240320T103000
SUMMARY:🌸 Spring 1 (Feb/Mar) 🌸 MIXED CLASS (Walking – 4 years) @ Wednesday 9:45am Anfield
DESCRIPTION:‼️ SUITABLE FOR TODDLERS WALKING TO 4 YEARS OLD !! 💙 A highly interactive toddler class with back to back activities set to our own NEW bespoke Bloom soundtrack 🎶 💚 This class will expose a multi sensory learning adventure helping toddlers to understand the world around them 🌍, flourish in language rich environment 🗣️, and enjoy a range of age appropriate games, songs and tasks which help support their developmental milestones 🧠
URL:https://bloomtoddlerclasses.com/liverpool-central/product/%f0%9f%8c%b8-spring-1-feb-mar-%f0%9f%8c%b8-mixed-class-walking-4-years-wednesday-945am-anfield/
LOCATION:Anfield Sports & Community Centre, Lower Breck Road, Liverpool, UK
END:VEVENT
END:VCALENDAR
