BEGIN:VCALENDAR
VERSION:2.0
PRODID:-//Bloom Toddler Classes Liverpool Central
CALSCALE:GREGORIAN
METHOD:PUBLISH
X-WR-CALNAME:Bloom Toddler Classes Liverpool Central
X-ORIGINAL-URL:https://bloomtoddlerclasses.com/liverpool-central/product/%f0%9f%8c%b8-spring-1-feb-mar-%f0%9f%8c%b8-social-superstars-2-4-years-tuesday-1050am-old-swan/
X-WR-CALDESC:🌸 Spring 1 (Feb/Mar) 🌸 Social Superstars (2 &#8211; 4 years) @ Tuesday 10:50am Old Swan
BEGIN:VEVENT
DTSTART;TZID=Europe/Paris:20240220T105000
DTEND;TZID=Europe/Paris:20240319T113500
SUMMARY:🌸 Spring 1 (Feb/Mar) 🌸 Social Superstars (2 – 4 years) @ Tuesday 10:50am Old Swan
DESCRIPTION:‼️ SUITABLE FOR TODDLERS 2 - 4 YEARS OLD ‼️ 💙 An active, fast paced toddler class for children from 2 - 4 years old😁 Our engaging activities focus on teamwork, friendship and physical play in a sensory rich atmosphere to foster a love of learning ❤️ 💚 Each week will explore a new theme where they will have the opportunity to problem solve 🤔, role play 🧑‍🚀, and develop their gross and fine motor skills 🤌, working towards school readiness 🏫
URL:https://bloomtoddlerclasses.com/liverpool-central/product/%f0%9f%8c%b8-spring-1-feb-mar-%f0%9f%8c%b8-social-superstars-2-4-years-tuesday-1050am-old-swan/
LOCATION:All Saints Church, Broad Green Road, Old Swan, Liverpool, UK
END:VEVENT
END:VCALENDAR
