BEGIN:VCALENDAR
VERSION:2.0
PRODID:-//Bloom Toddler Classes Liverpool Central
CALSCALE:GREGORIAN
METHOD:PUBLISH
X-WR-CALNAME:Bloom Toddler Classes Liverpool Central
X-ORIGINAL-URL:https://bloomtoddlerclasses.com/liverpool-central/product/%f0%9f%95%b7%ef%b8%8f-meet-the-minibeasts-sibling-ticket%f0%9f%95%b7%ef%b8%8f-thursday-15th-february-945am-west-derby-copy/
X-WR-CALDESC:🕷️ MEET THE MINIBEASTS &#8211; SIBLING TICKET🕷️ @ Thursday 15th February 9:45am West Derby
BEGIN:VEVENT
DTSTART;TZID=Europe/Paris:20240215T094500
DTEND;TZID=Europe/Paris:20240215T104500
SUMMARY:🕷️ MEET THE MINIBEASTS – SIBLING TICKET🕷️ @ Thursday 15th February 9:45am West Derby
DESCRIPTION:‼️ SIBLING TICKET - MUST BE PURCHASED WITH A TODDLER TICKET ‼️ Join us as we welcome PARTY CENTRAL WILDLIFE EXPERIENCE to bring our Minibeasts class ALIVE! Alongside our Bloom Toddler Beats and Minibeasts activities, little ones will have the chance to interact with snails, scorpions and more - including a tarantula!
URL:https://bloomtoddlerclasses.com/liverpool-central/product/%f0%9f%95%b7%ef%b8%8f-meet-the-minibeasts-sibling-ticket%f0%9f%95%b7%ef%b8%8f-thursday-15th-february-945am-west-derby-copy/
LOCATION:The Cornerstone Centre, Eaton Road North, West Derby, Liverpool, UK
END:VEVENT
END:VCALENDAR
