BEGIN:VCALENDAR
VERSION:2.0
PRODID:-//Bloom Toddler Classes Liverpool Central
CALSCALE:GREGORIAN
METHOD:PUBLISH
X-WR-CALNAME:Bloom Toddler Classes Liverpool Central
X-ORIGINAL-URL:https://bloomtoddlerclasses.com/liverpool-central/product/%f0%9f%95%b7%ef%b8%8f-meet-the-minibeats-%f0%9f%95%b7%ef%b8%8f-thursday-15th-february-945am-west-derby/
X-WR-CALDESC:🕷️ MEET THE MINIBEASTS 🕷️ @ Thursday 15th February 9:45am West Derby
BEGIN:VEVENT
DTSTART;TZID=Europe/Paris:20240215T094500
DTEND;TZID=Europe/Paris:20240215T104500
SUMMARY:🕷️ MEET THE MINIBEASTS 🕷️ @ Thursday 15th February 9:45am West Derby
DESCRIPTION:‼️ SUITABLE FOR WALKING TODDLERS TO 4 YEARS OLD ‼️ Join us as we welcome PARTY CENTRAL WILDLIFE EXPERIENCE to bring our Minibeasts class ALIVE! Alongside our Bloom Toddle Beats and Minibeasts activities, little ones will have the chance to interact with snails, scorpions and more - including a tarantula!
URL:https://bloomtoddlerclasses.com/liverpool-central/product/%f0%9f%95%b7%ef%b8%8f-meet-the-minibeats-%f0%9f%95%b7%ef%b8%8f-thursday-15th-february-945am-west-derby/
LOCATION:The Cornerstone Centre, Eaton Road North, West Derby, Liverpool, UK
END:VEVENT
END:VCALENDAR
