BEGIN:VCALENDAR
VERSION:2.0
PRODID:-//Bloom Toddler Classes Liverpool Central
CALSCALE:GREGORIAN
METHOD:PUBLISH
X-WR-CALNAME:Bloom Toddler Classes Liverpool Central
X-ORIGINAL-URL:https://bloomtoddlerclasses.com/liverpool-central/product/%f0%9f%8e%82our-1st-birthday-party-%f0%9f%8e%82-saturday-6th-january-945am-anfield/
X-WR-CALDESC:🎂Our 1st Birthday Party 🎂 @ Saturday 6th January 9:45am Anfield
BEGIN:VEVENT
DTSTART;TZID=Europe/Paris:20240106T094500
DTEND;TZID=Europe/Paris:20240106T000000
SUMMARY:🎂Our 1st Birthday Party 🎂 @ Saturday 6th January 9:45am Anfield
DESCRIPTION:‼️ SUITABLE FOR TODDLERS WALKING TO 4 YEARS OLD ‼️ 🎂 Come and join the celebrations: One year of Bloom Toddler Classes Liverpool Central 🎂 Our favourite Bloom Toddler Beats, celebration tuff trays, a keepsake craft, photo area and of course CAKE! 🎂 We can't wait to celebrate with you!
URL:https://bloomtoddlerclasses.com/liverpool-central/product/%f0%9f%8e%82our-1st-birthday-party-%f0%9f%8e%82-saturday-6th-january-945am-anfield/
LOCATION:Anfield Sports & Community Centre, Lower Breck Road, Liverpool, UK
END:VEVENT
END:VCALENDAR
