BEGIN:VCALENDAR
VERSION:2.0
PRODID:-//Bloom Toddler Classes Liverpool Central
CALSCALE:GREGORIAN
METHOD:PUBLISH
X-WR-CALNAME:Bloom Toddler Classes Liverpool Central
X-ORIGINAL-URL:https://bloomtoddlerclasses.com/liverpool-central/product/%f0%9f%a5%b3new-year-jan-feb-creative-learners-walking-2-years-monday-1230pm-walton/
X-WR-CALDESC:🥳New Year (Jan/Feb) Creative Learners (Walking &#8211; 2 years) @ Monday 12:30pm Walton
BEGIN:VEVENT
DTSTART;TZID=Europe/Paris:20240108T123000
DTEND;TZID=Europe/Paris:20240205T131500
SUMMARY:🥳New Year (Jan/Feb) Creative Learners (Walking – 2 years) @ Monday 12:30pm Walton
DESCRIPTION:‼️ SUITABLE FOR TODDLERS WALKING TO 24 MONTHS ‼️ 💙 A highly interactive toddler class with back to back activities set to our own NEW bespoke Bloom soundtrack 🎶 💚 This class will expose a multi sensory learning adventure helping toddlers to understand the world around them 🌍, flourish in language rich environment 🗣️, and enjoy a range of age appropriate games, songs and tasks which help support their developmental milestones 🧠
URL:https://bloomtoddlerclasses.com/liverpool-central/product/%f0%9f%a5%b3new-year-jan-feb-creative-learners-walking-2-years-monday-1230pm-walton/
LOCATION:Walton Cornerstone, Liston Street, Liverpool, UK
END:VEVENT
END:VCALENDAR
