BEGIN:VCALENDAR
VERSION:2.0
PRODID:-//Bloom Toddler Classes Liverpool Central
CALSCALE:GREGORIAN
METHOD:PUBLISH
X-WR-CALNAME:Bloom Toddler Classes Liverpool Central
X-ORIGINAL-URL:https://bloomtoddlerclasses.com/liverpool-central/product/spring1febmarchwaitlist/
X-WR-CALDESC:🌺 Spring 2 (April &#8211; May) Waitlist 🌺
BEGIN:VEVENT
DTSTART;TZID=Europe/Paris:20240308T094500
DTEND;TZID=Europe/Paris:20240315T103000
SUMMARY:🌺 Spring 2 (April – May) Waitlist 🌺
DESCRIPTION:🌺 Add your details to receive priority booking for our upcoming Spring 2 (April-May) 5 week term 🌺
URL:https://bloomtoddlerclasses.com/liverpool-central/product/spring1febmarchwaitlist/
LOCATION:
END:VEVENT
END:VCALENDAR
