BEGIN:VCALENDAR
VERSION:2.0
PRODID:-//Bloom Toddler Classes Liverpool Central
CALSCALE:GREGORIAN
METHOD:PUBLISH
X-WR-CALNAME:Bloom Toddler Classes Liverpool Central
X-ORIGINAL-URL:https://bloomtoddlerclasses.com/liverpool-central/product/%f0%9f%8e%84-christmas-party-%f0%9f%8e%84-family-ticket-monday-18th-december-1230pm-walton/
X-WR-CALDESC:🎄 CHRISTMAS PARTY 🎄 (Family Ticket) @ Monday 18th December 12:30pm Walton
BEGIN:VEVENT
DTSTART;TZID=Europe/Paris:20231218T123000
DTEND;TZID=Europe/Paris:20231218T133000
SUMMARY:🎄 CHRISTMAS PARTY 🎄 (Family Ticket) @ Monday 18th December 12:30pm Walton
DESCRIPTION:Family Ticket: 1 baby (6 weeks to walking) 1 toddler (walking to 4 years old) and 2 adults 🎄 Join the Christmas Party with Cooper the Caterpillar and Bailey the Butterfly for an extended class of Bloom Magic 🎅 With your favourite baby and toddler songs, tuff trays suitable for both age groups and a craftastic keepsake 🎄 Additional children (within the age ranges) will need to book a separate ticket for this event
URL:https://bloomtoddlerclasses.com/liverpool-central/product/%f0%9f%8e%84-christmas-party-%f0%9f%8e%84-family-ticket-monday-18th-december-1230pm-walton/
LOCATION:Walton Cornerstone, Liston Street, Liverpool, UK
END:VEVENT
END:VCALENDAR
