BEGIN:VCALENDAR
VERSION:2.0
PRODID:-//Bloom Toddler Classes Liverpool Central
CALSCALE:GREGORIAN
METHOD:PUBLISH
X-WR-CALNAME:Bloom Toddler Classes Liverpool Central
X-ORIGINAL-URL:https://bloomtoddlerclasses.com/liverpool-central/product/%f0%9f%8e%84christmas-party-%f0%9f%8e%84-saturday-16th-december-11am-anfield/
X-WR-CALDESC:🎄CHRISTMAS PARTY 🎄 @ Saturday 16th December 11am Anfield
BEGIN:VEVENT
DTSTART;TZID=Europe/Paris:20231216T110000
DTEND;TZID=Europe/Paris:20231216T114500
SUMMARY:🎄CHRISTMAS PARTY 🎄 @ Saturday 16th December 11am Anfield
DESCRIPTION:‼️ SUITABLE FOR WALKING TODDLERS TO 4 YEARS OLD ‼️ 🎄 Join us for our extended class Christmas Party! 🎅 Alongside your favourite toddler beats we will have: 🎄 Extra theme time activities 🎅 Keepsake Crafts 🎄 Tasty Treats 🤫 And a SPECIAL GUEST!
URL:https://bloomtoddlerclasses.com/liverpool-central/product/%f0%9f%8e%84christmas-party-%f0%9f%8e%84-saturday-16th-december-11am-anfield/
LOCATION:Anfield Sports & Community Centre, Lower Breck Road, Liverpool, UK
END:VEVENT
END:VCALENDAR
