BEGIN:VCALENDAR
VERSION:2.0
PRODID:-//Bloom Toddler Classes Liverpool Central
CALSCALE:GREGORIAN
METHOD:PUBLISH
X-WR-CALNAME:Bloom Toddler Classes Liverpool Central
X-ORIGINAL-URL:https://bloomtoddlerclasses.com/liverpool-central/product/%e2%9d%84%ef%b8%8fwinter-nov-dec-creative-learners-walking-24-months-wednesday-945am-anfield/
X-WR-CALDESC:❄️Winter (Nov-Dec) Creative Learners (Walking &#8211; 24 months) @ Wednesday 9:45am Anfield
BEGIN:VEVENT
DTSTART;TZID=Europe/Paris:20231108T094500
DTEND;TZID=Europe/Paris:20231213T103000
SUMMARY:❄️Winter (Nov-Dec) Creative Learners (Walking – 24 months) @ Wednesday 9:45am Anfield
DESCRIPTION:‼️ SUITABLE FOR TODDLERS WALKING TO 24 MONTHS ‼️ 💙 A highly interactive toddler class with back to back activities set to our own NEW bespoke Bloom soundtrack 🎶 💚 This class will expose a multi sensory learning adventure helping toddlers to understand the world around them 🌍, flourish in language rich environment 🗣️, and enjoy a range of age appropriate games, songs and tasks which help support their developmental milestones 🧠
URL:https://bloomtoddlerclasses.com/liverpool-central/product/%e2%9d%84%ef%b8%8fwinter-nov-dec-creative-learners-walking-24-months-wednesday-945am-anfield/
LOCATION:Anfield Sports & Community Centre, Lower Breck Road, Liverpool, UK
END:VEVENT
END:VCALENDAR
