BEGIN:VCALENDAR
VERSION:2.0
PRODID:-//Bloom Toddler Classes Liverpool Central
CALSCALE:GREGORIAN
METHOD:PUBLISH
X-WR-CALNAME:Bloom Toddler Classes Liverpool Central
X-ORIGINAL-URL:https://bloomtoddlerclasses.com/liverpool-central/product/%e2%9d%84%ef%b8%8fwinter-nov-dec-afternoon-mixed-class-walking-4-years-monday-130pm-walton/
X-WR-CALDESC:❄️Winter (Nov-Dec) AFTERNOON MIXED CLASS (Walking &#8211; 4 years) @ Monday 1:30pm Walton
BEGIN:VEVENT
DTSTART;TZID=Europe/Paris:20231106T133000
DTEND;TZID=Europe/Paris:20231211T141500
SUMMARY:❄️Winter (Nov-Dec) AFTERNOON MIXED CLASS (Walking – 4 years) @ Monday 1:30pm Walton
DESCRIPTION:‼️ SUITABLE FOR TODDLERS Walking - 4 YEARS OLD ‼️ 💙 An active, fast paced toddler class for children who are walking - 4 years old 😁 Our engaging activities focus on teamwork, friendship and physical play in a sensory rich atmosphere to foster a love of learning ❤️ 💚 Each week will explore a new theme where they will have the opportunity to problem solve 🤔, role play 🧑‍🚀, and develop their gross and fine motor skills 🤌, working towards school readiness 🏫
URL:https://bloomtoddlerclasses.com/liverpool-central/product/%e2%9d%84%ef%b8%8fwinter-nov-dec-afternoon-mixed-class-walking-4-years-monday-130pm-walton/
LOCATION:Walton Cornerstone, Liston Street, Liverpool, UK
END:VEVENT
END:VCALENDAR
