BEGIN:VCALENDAR
VERSION:2.0
PRODID:-//Bloom Toddler Classes Liverpool Central
CALSCALE:GREGORIAN
METHOD:PUBLISH
X-WR-CALNAME:Bloom Toddler Classes Liverpool Central
X-ORIGINAL-URL:https://bloomtoddlerclasses.com/liverpool-central/product/%f0%9f%8e%83-family-spooktacular-%f0%9f%8e%83-additional-child-ticket-monday-30th-october-1230pm-walton-copy/
X-WR-CALDESC:🎃 Family Spooktacular 🎃 (Additional Child Ticket) @ Monday 30th October 12:30pm Walton
BEGIN:VEVENT
DTSTART;TZID=Europe/Paris:20231030T123000
DTEND;TZID=Europe/Paris:20231030T133000
SUMMARY:🎃 Family Spooktacular 🎃 (Additional Child Ticket) @ Monday 30th October 12:30pm Walton
DESCRIPTION:Additional Child Ticket: 1 baby (6 weeks to 15 months) OR 1 toddler (15 months to 4 years old) MUST BE PURCHASED ALONGSIDE A FAMILY TICKET 🎃 Join the Spooktacular world with Cooper the Caterpillar and Bailey the Butterfly for an extended class of Bloom Magic 🎃 With your favourite baby and toddler songs, tuff trays suitable for both age groups and a craftastic keepsake 🎃 Additional children (within the age ranges) will need to book a separate ticket for this event
URL:https://bloomtoddlerclasses.com/liverpool-central/product/%f0%9f%8e%83-family-spooktacular-%f0%9f%8e%83-additional-child-ticket-monday-30th-october-1230pm-walton-copy/
LOCATION:Walton Cornerstone, Liston Street, Liverpool, UK
END:VEVENT
END:VCALENDAR
