BEGIN:VCALENDAR
VERSION:2.0
PRODID:-//Bloom Toddler Classes Liverpool Central
CALSCALE:GREGORIAN
METHOD:PUBLISH
X-WR-CALNAME:Bloom Toddler Classes Liverpool Central
X-ORIGINAL-URL:https://bloomtoddlerclasses.com/liverpool-central/product/%f0%9f%8d%82-autumn-afternoon-social-superstars-2-4-years-monday-135pm-walton/
X-WR-CALDESC:🍂 Autumn AFTERNOON MIXED CLASS (15 months &#8211; 4 years) @ Monday 1:35pm Walton
BEGIN:VEVENT
DTSTART;TZID=Europe/Paris:20230904T133500
DTEND;TZID=Europe/Paris:20231016T142000
SUMMARY:🍂 Autumn AFTERNOON MIXED CLASS (15 months – 4 years) @ Monday 1:35pm Walton
DESCRIPTION:‼️ SUITABLE FOR TODDLERS 15 months - 4 YEARS OLD ‼️ 💙 An active, fast paced toddler class for children from 15 months - 4 years old 😁 Our engaging activities focus on teamwork, friendship and physical play in a sensory rich atmosphere to foster a love of learning ❤️ 💚 Each week will explore a new theme where they will have the opportunity to problem solve 🤔, role play 🧑‍🚀, and develop their gross and fine motor skills 🤌, working towards school readiness 🏫
URL:https://bloomtoddlerclasses.com/liverpool-central/product/%f0%9f%8d%82-autumn-afternoon-social-superstars-2-4-years-monday-135pm-walton/
LOCATION:Walton Cornerstone, Liston Street, Liverpool, UK
END:VEVENT
END:VCALENDAR
