BEGIN:VCALENDAR
VERSION:2.0
PRODID:-//Bloom Toddler Classes Liverpool Central
CALSCALE:GREGORIAN
METHOD:PUBLISH
X-WR-CALNAME:Bloom Toddler Classes Liverpool Central
X-ORIGINAL-URL:https://bloomtoddlerclasses.com/liverpool-central/product/apr-may-social-superstars-2-4-years-saturday-1050am-everton/
X-WR-CALDESC:APR/MAY Social Superstars (2 &#8211; 4 years) @ Saturday 10:50am Everton
BEGIN:VEVENT
DTSTART;TZID=Europe/Paris:20230429T105000
DTEND;TZID=Europe/Paris:20230527T113500
SUMMARY:APR/MAY Social Superstars (2 – 4 years) @ Saturday 10:50am Everton
DESCRIPTION:‼️ SUITABLE FOR TODDLERS 2 - 4 YEARS OLD ‼️ 💙 An active, fast paced toddler class for children from 2 - 4 years old 😁 Our engaging activities focus on teamwork, friendship and physical play in a sensory rich atmosphere to foster a love of learning ❤️ 💚 Each week will explore a new theme where they will have the opportunity to problem solve 🤔, role play 🧑‍🚀, and develop their gross and fine motor skills 🤌, working towards school readiness 🏫
URL:https://bloomtoddlerclasses.com/liverpool-central/product/apr-may-social-superstars-2-4-years-saturday-1050am-everton/
LOCATION:North Liverpool Academy, Heyworth Street, Liverpool, UK
END:VEVENT
END:VCALENDAR
