BEGIN:VCALENDAR
VERSION:2.0
PRODID:-//Bloom Toddler Classes Liverpool Central
CALSCALE:GREGORIAN
METHOD:PUBLISH
X-WR-CALNAME:Bloom Toddler Classes Liverpool Central
X-ORIGINAL-URL:https://bloomtoddlerclasses.com/liverpool-central/product/apr-may-creative-learners-15-24-months-thursday-945am-west-derby/
X-WR-CALDESC:APR/MAY Creative Learners (15 &#8211; 24 months) @ Thursday 9:45am West Derby
BEGIN:VEVENT
DTSTART;TZID=Europe/Paris:20230427T094500
DTEND;TZID=Europe/Paris:20230525T103000
SUMMARY:APR/MAY Creative Learners (15 – 24 months) @ Thursday 9:45am West Derby
DESCRIPTION:‼️ SUITABLE FOR TODDLERS 15+ MONTHS AND WALKING TO 24 MONTHS ‼️ 💙 A highly interactive toddler class with back to back activities set to our own NEW bespoke Bloom soundtrack 🎶 💚 This class will expose a multi sensory learning adventure helping toddlers to understand the world around them 🌍, flourish in language rich environment 🗣️, and enjoy a range of age appropriate games, songs and tasks which help support their developmental milestones 🧠
URL:https://bloomtoddlerclasses.com/liverpool-central/product/apr-may-creative-learners-15-24-months-thursday-945am-west-derby/
LOCATION:The Cornerstone Centre, Eaton Road North, West Derby, Liverpool, UK
END:VEVENT
END:VCALENDAR
