BEGIN:VCALENDAR
VERSION:2.0
PRODID:-//Bloom Toddler Classes Dorset
CALSCALE:GREGORIAN
METHOD:PUBLISH
X-WR-CALNAME:Bloom Toddler Classes Dorset
X-ORIGINAL-URL:https://bloomtoddlerclasses.com/dorset/product/payg-%f0%9f%8d%82autumn-term-1%f0%9f%8d%82-wednesday-23-9-25-11am-social-superstars-2-4-years-at-holt-village-hall/
X-WR-CALDESC:PAYG 🍂Autumn Term 1🍂 Wednesday 23/9/25 11am – Social Superstars 2-4 years at Holt Village Hall
BEGIN:VEVENT
DTSTART;TZID=Europe/Paris:20250923T110000
DTEND;TZID=Europe/Paris:20250923T114500
SUMMARY:PAYG 🍂Autumn Term 1🍂 Wednesday 23/9/25 11am – Social Superstars 2-4 years at Holt Village Hall
DESCRIPTION:Social Superstars is a highly interactive multi-sensory class for toddlers ages 2-4 years. 🌟This week's theme is Build It 👷‍♂️👷‍♀️ - expect bricks, diggers, hi vis and hard hats!🌟
URL:https://bloomtoddlerclasses.com/dorset/product/payg-%f0%9f%8d%82autumn-term-1%f0%9f%8d%82-wednesday-23-9-25-11am-social-superstars-2-4-years-at-holt-village-hall/
LOCATION:Holt Village Hall, Hart's Lane, Holt, Wimborne, UK
END:VEVENT
END:VCALENDAR
