BEGIN:VCALENDAR
VERSION:2.0
PRODID:-//Bloom Toddler Classes Dorset
CALSCALE:GREGORIAN
METHOD:PUBLISH
X-WR-CALNAME:Bloom Toddler Classes Dorset
X-ORIGINAL-URL:https://bloomtoddlerclasses.com/dorset/product/payg-%f0%9f%8d%82autumn-term-1%f0%9f%8d%82-friday-19-9-25-10-50am-social-superstars-2-4-years-at-st-marks-church-hall/
X-WR-CALDESC:PAYG 🍂Autumn Term 1🍂 Friday 19/9/25 10.50am – Social Superstars 2-4 years at St Mark&#8217;s Church Hall
BEGIN:VEVENT
DTSTART;TZID=Europe/Paris:20250919T105000
DTEND;TZID=Europe/Paris:20250919T113500
SUMMARY:PAYG 🍂Autumn Term 1🍂 Friday 19/9/25 10.50am – Social Superstars 2-4 years at St Mark’s Church Hall
DESCRIPTION:Social Superstars is a highly interactive multi-sensory class for toddlers ages 2-4 years. 🌟This week's theme is Bees 🐝- expect lots of yellow and black, buzzing about and hive fun!🌟
URL:https://bloomtoddlerclasses.com/dorset/product/payg-%f0%9f%8d%82autumn-term-1%f0%9f%8d%82-friday-19-9-25-10-50am-social-superstars-2-4-years-at-st-marks-church-hall/
LOCATION:St Mark's Church, Talbot Village, Wallisdown Road, Bournemouth, UK
END:VEVENT
END:VCALENDAR
