BEGIN:VCALENDAR
VERSION:2.0
PRODID:-//Bloom Toddler Classes Dorset
CALSCALE:GREGORIAN
METHOD:PUBLISH
X-WR-CALNAME:Bloom Toddler Classes Dorset
X-ORIGINAL-URL:https://bloomtoddlerclasses.com/dorset/product/payg-%f0%9f%8d%82autumn-term-1%f0%9f%8d%82-wednesday-17-9-25-11-15am-social-superstars-2-4-years-at-atorro-sports/
X-WR-CALDESC:PAYG 🍂Autumn Term 1🍂 Wednesday 17/9/25 11.15am – Social Superstars 2-4 years at Atorro Sports
BEGIN:VEVENT
DTSTART;TZID=Europe/Paris:20250917T111500
DTEND;TZID=Europe/Paris:20250917T120000
SUMMARY:PAYG 🍂Autumn Term 1🍂 Wednesday 17/9/25 11.15am – Social Superstars 2-4 years at Atorro Sports
DESCRIPTION:🌟This week's theme is Bees 🐝- expect lots of yellow and black, buzzing about and hive fun!🌟 Social Superstars is a highly interactive multi-sensory class for toddlers ages 2-4 years.
URL:https://bloomtoddlerclasses.com/dorset/product/payg-%f0%9f%8d%82autumn-term-1%f0%9f%8d%82-wednesday-17-9-25-11-15am-social-superstars-2-4-years-at-atorro-sports/
LOCATION:Atorro Sports Ltd, Barrack Road, Christchurch, UK
END:VEVENT
END:VCALENDAR
