BEGIN:VCALENDAR
VERSION:2.0
PRODID:-//Bloom Toddler Classes Dorset
CALSCALE:GREGORIAN
METHOD:PUBLISH
X-WR-CALNAME:Bloom Toddler Classes Dorset
X-ORIGINAL-URL:https://bloomtoddlerclasses.com/dorset/product/payg-%f0%9f%8d%82autumn-term-1%f0%9f%8d%82-wednesday-17-9-25-10am-creative-learners-walking-24-months-at-atorro-sports/
X-WR-CALDESC:PAYG 🍂Autumn Term 1🍂 Wednesday 17/9/25 10am – Creative Learners Walking-24 months at Atorro Sports
BEGIN:VEVENT
DTSTART;TZID=Europe/Paris:20250917T100000
DTEND;TZID=Europe/Paris:20250917T104500
SUMMARY:PAYG 🍂Autumn Term 1🍂 Wednesday 17/9/25 10am – Creative Learners Walking-24 months at Atorro Sports
DESCRIPTION:Creative Learners is a highly interactive multi-sensory class for toddlers walking – 24 months. 🌟This week's theme is Bees 🐝- expect lots of yellow and black, buzzing about and hive fun!🌟
URL:https://bloomtoddlerclasses.com/dorset/product/payg-%f0%9f%8d%82autumn-term-1%f0%9f%8d%82-wednesday-17-9-25-10am-creative-learners-walking-24-months-at-atorro-sports/
LOCATION:Atorro Sports Ltd, Barrack Road, Christchurch, UK
END:VEVENT
END:VCALENDAR
