BEGIN:VCALENDAR
VERSION:2.0
PRODID:-//Bloom Toddler Classes Dorset
CALSCALE:GREGORIAN
METHOD:PUBLISH
X-WR-CALNAME:Bloom Toddler Classes Dorset
X-ORIGINAL-URL:https://bloomtoddlerclasses.com/dorset/product/payg%f0%9f%8d%82autumn-term-1%f0%9f%8d%82-friday-10-50am-social-superstars-24-months-4-years-at-st-marks-church-hall/
X-WR-CALDESC:PAYG🍂Autumn Term 1🍂 Friday 10.50am – Social Superstars 24 months-4 years at St Mark&#8217;s Church Hall
BEGIN:VEVENT
DTSTART;TZID=Europe/Paris:20250912T105000
DTEND;TZID=Europe/Paris:20250912T113500
SUMMARY:PAYG🍂Autumn Term 1🍂 Friday 10.50am – Social Superstars 24 months-4 years at St Mark’s Church Hall
DESCRIPTION:Social Superstars is a highly interactive multi sensory class for children 24 months – 4 years. All our classes support pre school readiness and encourage your child’s skills and development through dance and play. We can’t wait to welcome you to our classes 💚💙
URL:https://bloomtoddlerclasses.com/dorset/product/payg%f0%9f%8d%82autumn-term-1%f0%9f%8d%82-friday-10-50am-social-superstars-24-months-4-years-at-st-marks-church-hall/
LOCATION:St Mark's Church, Talbot Village, Wallisdown Road, Bournemouth, UK
END:VEVENT
END:VCALENDAR
