BEGIN:VCALENDAR
VERSION:2.0
PRODID:-//Bloom Toddler Classes Dorset
CALSCALE:GREGORIAN
METHOD:PUBLISH
X-WR-CALNAME:Bloom Toddler Classes Dorset
X-ORIGINAL-URL:https://bloomtoddlerclasses.com/dorset/product/%f0%9f%8e%83halloween-spooktacular-special%f0%9f%8e%83monday-10am-at-church-of-the-transfiguration-mixed/
X-WR-CALDESC:🎃Halloween Spooktacular Special🎃 Monday 10am at Church of the Transfiguration (mixed ages)
BEGIN:VEVENT
DTSTART;TZID=Europe/Paris:20251020T100000
DTEND;TZID=Europe/Paris:20251020T105500
SUMMARY:🎃Halloween Spooktacular Special🎃 Monday 10am at Church of the Transfiguration (mixed ages)
DESCRIPTION: Bloom Halloween Spooktacular Special  Get ready for a fang-tastic 55 minutes of magical, messy, and memory-making fun! This special Halloween class includes all of your favourite Bloom core songs and activities, lovingly designed in line with the EYFS to nurture learning through play.
URL:https://bloomtoddlerclasses.com/dorset/product/%f0%9f%8e%83halloween-spooktacular-special%f0%9f%8e%83monday-10am-at-church-of-the-transfiguration-mixed/
LOCATION:Church Of The Transfiguration, Chaddesley Glen, Poole, UK
END:VEVENT
END:VCALENDAR
