BEGIN:VCALENDAR
VERSION:2.0
PRODID:-//Bloom Toddler Classes Dorset
CALSCALE:GREGORIAN
METHOD:PUBLISH
X-WR-CALNAME:Bloom Toddler Classes Dorset
X-ORIGINAL-URL:https://bloomtoddlerclasses.com/dorset/product/%f0%9f%8d%82autumn-term-1%f0%9f%8d%82-friday-9-45am-creative-learners-walking-24-months-at-st-marks-church-hall/
X-WR-CALDESC:🍂Autumn Term 1🍂 Friday 9.45am – Creative Learners walking-24 months at St Mark&#8217;s Church Hall
BEGIN:VEVENT
DTSTART;TZID=Europe/Paris:20250912T094500
DTEND;TZID=Europe/Paris:20251017T094500
SUMMARY:🍂Autumn Term 1🍂 Friday 9.45am – Creative Learners walking-24 months at St Mark’s Church Hall
DESCRIPTION:Creative learners is a highly interactive multi-sensory class for toddlers walking – 24 months. All our classes support pre school readiness and encourage your child’s skills and development through dance and play. We can’t wait to welcome you to our classes 
URL:https://bloomtoddlerclasses.com/dorset/product/%f0%9f%8d%82autumn-term-1%f0%9f%8d%82-friday-9-45am-creative-learners-walking-24-months-at-st-marks-church-hall/
LOCATION:St Mark's Church, Talbot Village, Wallisdown Road, Bournemouth, UK
END:VEVENT
END:VCALENDAR
