BEGIN:VCALENDAR
VERSION:2.0
PRODID:-//Bloom Toddler Classes Dorset
CALSCALE:GREGORIAN
METHOD:PUBLISH
X-WR-CALNAME:Bloom Toddler Classes Dorset
X-ORIGINAL-URL:https://bloomtoddlerclasses.com/dorset/product/social-superstars-payg-session-atorro-sports-christchurch-11-15am/
X-WR-CALDESC:PAYG🍂Autumn Term 1🍂 Wednesday 10/09/25 11.15am – Social Superstars 24 months-4 years at Atorro Sports, Christchurch
BEGIN:VEVENT
DTSTART;TZID=Europe/Paris:20250910T111500
DTEND;TZID=Europe/Paris:20250910T120000
SUMMARY:PAYG🍂Autumn Term 1🍂 Wednesday 10/09/25 11.15am – Social Superstars 24 months-4 years at Atorro Sports, Christchurch
DESCRIPTION:Social Superstars is a highly interactive multi sensory class for children 24 months – 4 years. All our classes support pre school readiness and encourage your child’s skills and development through dance and play. We can’t wait to welcome you to our classes 💚💙
URL:https://bloomtoddlerclasses.com/dorset/product/social-superstars-payg-session-atorro-sports-christchurch-11-15am/
LOCATION:Atorro Sports Ltd, Barrack Road, Christchurch, UK
END:VEVENT
END:VCALENDAR
