BEGIN:VCALENDAR
VERSION:2.0
PRODID:-//Bloom Toddler Classes Dorset
CALSCALE:GREGORIAN
METHOD:PUBLISH
X-WR-CALNAME:Bloom Toddler Classes Dorset
X-ORIGINAL-URL:https://bloomtoddlerclasses.com/dorset/product/creative-learners-payg-session-atorro-sports-christchurch-10am/
X-WR-CALDESC:PAYG🍂Autumn Term 1🍂 Wednesday 10/09/25 10am – Creative Learners Walking-24 months at Atorro Sports, Christchurch
BEGIN:VEVENT
DTSTART;TZID=Europe/Paris:20250910T100000
DTEND;TZID=Europe/Paris:20250910T104500
SUMMARY:PAYG🍂Autumn Term 1🍂 Wednesday 10/09/25 10am – Creative Learners Walking-24 months at Atorro Sports, Christchurch
DESCRIPTION:Creative learners is a highly interactive multi-sensory class for toddlers walking – 24 months. All our classes support pre school readiness and encourage your child’s skills and development through dance and play. We can’t wait to welcome you to our classes 💚💙
URL:https://bloomtoddlerclasses.com/dorset/product/creative-learners-payg-session-atorro-sports-christchurch-10am/
LOCATION:Atorro Sports Ltd, Barrack Road, Christchurch, UK
END:VEVENT
END:VCALENDAR
