BEGIN:VCALENDAR
VERSION:2.0
PRODID:-//Bloom Toddler Classes Dorset
CALSCALE:GREGORIAN
METHOD:PUBLISH
X-WR-CALNAME:Bloom Toddler Classes Dorset
X-ORIGINAL-URL:https://bloomtoddlerclasses.com/dorset/product/taster-session-gather-space-dolphin-centre-social-superstars-12pm/
X-WR-CALDESC:Taster Session @ Gather Space, Dolphin Centre &#8211; Social Superstars 12pm
BEGIN:VEVENT
DTSTART;TZID=Europe/Paris:20250722T120000
DTEND;TZID=Europe/Paris:20250722T124500
SUMMARY:Taster Session @ Gather Space, Dolphin Centre – Social Superstars 12pm
DESCRIPTION:Taster session of Social Superstars at Gather Space in the Dolphin Centre - theme of A Day at the Seaside!
URL:https://bloomtoddlerclasses.com/dorset/product/taster-session-gather-space-dolphin-centre-social-superstars-12pm/
LOCATION:Dolphin Centre, Poole, UK
END:VEVENT
END:VCALENDAR
