BEGIN:VCALENDAR
VERSION:2.0
PRODID:-//Bloom Toddler Classes Dorset
CALSCALE:GREGORIAN
METHOD:PUBLISH
X-WR-CALNAME:Bloom Toddler Classes Dorset
X-ORIGINAL-URL:https://bloomtoddlerclasses.com/dorset/product/taster-session-gather-space-dolphin-centre-creative-learners-10-45am/
X-WR-CALDESC:Taster Session @ Gather Space, Dolphin Centre &#8211; Creative Learners 10.45am
BEGIN:VEVENT
DTSTART;TZID=Europe/Paris:20250722T104500
DTEND;TZID=Europe/Paris:20250722T113000
SUMMARY:Taster Session @ Gather Space, Dolphin Centre – Creative Learners 10.45am
DESCRIPTION:Creative Learners session at Gather Space on the Dolphin Centre - theme of A Day at the Seaside!
URL:https://bloomtoddlerclasses.com/dorset/product/taster-session-gather-space-dolphin-centre-creative-learners-10-45am/
LOCATION:Dolphin Centre, Poole, UK
END:VEVENT
END:VCALENDAR
