BEGIN:VCALENDAR
VERSION:2.0
PRODID:-//Bloom Toddler Classes Dorset
CALSCALE:GREGORIAN
METHOD:PUBLISH
X-WR-CALNAME:Bloom Toddler Classes Dorset
X-ORIGINAL-URL:https://bloomtoddlerclasses.com/dorset/product/mini-session-peek-a-boo-and-boo-broadstone-24-06-25-9am/
X-WR-CALDESC:Mini Session @ Peek-A-Boo and Brew, Broadstone 24/06/25 9am
BEGIN:VEVENT
DTSTART;TZID=Europe/Paris:20250624T090000
DTEND;TZID=Europe/Paris:20250624T104500
SUMMARY:Mini Session @ Peek-A-Boo and Brew, Broadstone 24/06/25 9am
DESCRIPTION:Join me at Peek-A-Boo and Brew in Broadstone on 24/6/25 at 9am for a 1hr 45mins play session with a dedicated 20mins of Bloom singing, signing and dancing to kick it off, all for just £5!
URL:https://bloomtoddlerclasses.com/dorset/product/mini-session-peek-a-boo-and-boo-broadstone-24-06-25-9am/
LOCATION:Peek-A-Boo & Brew, Macaulay Road, Broadstone, Poole, Broadstone, UK
END:VEVENT
END:VCALENDAR
