BEGIN:VCALENDAR
VERSION:2.0
PRODID:-//Bloom Toddler Classes Dorset
CALSCALE:GREGORIAN
METHOD:PUBLISH
X-WR-CALNAME:Bloom Toddler Classes Dorset
X-ORIGINAL-URL:https://bloomtoddlerclasses.com/dorset/product/%f0%9f%8d%82autumn-term-1%f0%9f%8d%82-tuesday-9-45am-creative-learners-walking-24-months-at-holt-village-hall/
X-WR-CALDESC:🍂Autumn Term 1🍂 Tuesday 9.45am – Creative Learners Walking-24 months at Holt Village Hall
BEGIN:VEVENT
DTSTART;TZID=Europe/Paris:20250923T094500
DTEND;TZID=Europe/Paris:20251014T094500
SUMMARY:🍂Autumn Term 1🍂 Tuesday 9.45am – Creative Learners Walking-24 months at Holt Village Hall
DESCRIPTION:Creative Learners is a highly interactive multi sensory class for toddlers walking – 24 months. All our classes support pre school readiness and encourage your child’s skills and development through dance and play. We can’t wait to welcome you to our classes 💚💙 &nbsp;
URL:https://bloomtoddlerclasses.com/dorset/product/%f0%9f%8d%82autumn-term-1%f0%9f%8d%82-tuesday-9-45am-creative-learners-walking-24-months-at-holt-village-hall/
LOCATION:Holt Village Hall, Hart's Lane, Holt, Wimborne, UK
END:VEVENT
END:VCALENDAR
