BEGIN:VCALENDAR
VERSION:2.0
PRODID:-//Bloom Toddler Classes Dorset
CALSCALE:GREGORIAN
METHOD:PUBLISH
X-WR-CALNAME:Bloom Toddler Classes Dorset
X-ORIGINAL-URL:https://bloomtoddlerclasses.com/dorset/product/%f0%9f%8d%82autumn-term-1%f0%9f%8d%82-wednesday-11-15am-social-superstars-24-months-4-years-at-atorro-sports/
X-WR-CALDESC:🍂Autumn Term 1🍂 Wednesday 11.15am – Social Superstars 24 months-4 years at Atorro Sports
BEGIN:VEVENT
DTSTART;TZID=Europe/Paris:20250910T111500
DTEND;TZID=Europe/Paris:20251015T111500
SUMMARY:🍂Autumn Term 1🍂 Wednesday 11.15am – Social Superstars 24 months-4 years at Atorro Sports
DESCRIPTION:Social Superstars is a highly interactive multi sensory class for children 24 months – 4 years. All our classes support pre school readiness and encourage your child’s skills and development through dance and play. We can’t wait to welcome you to our classes 💚💙
URL:https://bloomtoddlerclasses.com/dorset/product/%f0%9f%8d%82autumn-term-1%f0%9f%8d%82-wednesday-11-15am-social-superstars-24-months-4-years-at-atorro-sports/
LOCATION:Atorro Sports Ltd, Barrack Road, Christchurch, UK
END:VEVENT
END:VCALENDAR
