BEGIN:VCALENDAR
VERSION:2.0
PRODID:-//Bloom Toddler Classes Dorset
CALSCALE:GREGORIAN
METHOD:PUBLISH
X-WR-CALNAME:Bloom Toddler Classes Dorset
X-ORIGINAL-URL:https://bloomtoddlerclasses.com/dorset/product/%f0%9f%8d%82autumn-term-1%f0%9f%8d%82-monday-10am-creative-learners-walking-24-months-at-atorro-sports/
X-WR-CALDESC:🍂Autumn Term 1🍂 Wednesday 10am – Creative Learners Walking-24 months at Atorro Sports
BEGIN:VEVENT
DTSTART;TZID=Europe/Paris:20250910T100000
DTEND;TZID=Europe/Paris:20251015T100000
SUMMARY:🍂Autumn Term 1🍂 Wednesday 10am – Creative Learners Walking-24 months at Atorro Sports
DESCRIPTION:Creative learners is a highly interactive  multi sensory class for toddlers walking – 24 months. All our classes support pre school readiness and encourage your child’s skills and development through dance and play. We can’t wait to welcome you to our classes 💚💙
URL:https://bloomtoddlerclasses.com/dorset/product/%f0%9f%8d%82autumn-term-1%f0%9f%8d%82-monday-10am-creative-learners-walking-24-months-at-atorro-sports/
LOCATION:Atorro Sports Ltd, Barrack Road, Christchurch, UK
END:VEVENT
END:VCALENDAR
