BEGIN:VCALENDAR
VERSION:2.0
PRODID:-//Bloom Toddler Classes Dorset
CALSCALE:GREGORIAN
METHOD:PUBLISH
X-WR-CALNAME:Bloom Toddler Classes Dorset
X-ORIGINAL-URL:https://bloomtoddlerclasses.com/dorset/product/%f0%9f%8d%82autumn-term-1%f0%9f%8d%82-monday-11am-social-superstars-24-months-4-years-at-church-of-the-transfiguration/
X-WR-CALDESC:🍂Autumn Term 1🍂 Monday 11am – Social Superstars 24 months-4 years at Church of the Transfiguration
BEGIN:VEVENT
DTSTART;TZID=Europe/Paris:20250908T110000
DTEND;TZID=Europe/Paris:20251013T110000
SUMMARY:🍂Autumn Term 1🍂 Monday 11am – Social Superstars 24 months-4 years at Church of the Transfiguration
DESCRIPTION:Social superstars is a highly interactive multi sensory class for children 24 months – 4 years. All our classes support pre school readiness and encourage your child’s skills and development through dance and play. We can’t wait to welcome you to our classes 💚💙
URL:https://bloomtoddlerclasses.com/dorset/product/%f0%9f%8d%82autumn-term-1%f0%9f%8d%82-monday-11am-social-superstars-24-months-4-years-at-church-of-the-transfiguration/
LOCATION:Church Of The Transfiguration, Chaddesley Glen, Poole, UK
END:VEVENT
END:VCALENDAR
